BEGIN:VCALENDAR
VERSION:2.0
PRODID:-//NTHC - ECPv6.15.16.1//NONSGML v1.0//EN
CALSCALE:GREGORIAN
METHOD:PUBLISH
X-ORIGINAL-URL:https://nthc.ca
X-WR-CALDESC:Events for NTHC
REFRESH-INTERVAL;VALUE=DURATION:PT1H
X-Robots-Tag:noindex
X-PUBLISHED-TTL:PT1H
BEGIN:VTIMEZONE
TZID:America/Toronto
BEGIN:DAYLIGHT
TZOFFSETFROM:-0500
TZOFFSETTO:-0400
TZNAME:EDT
DTSTART:20240310T070000
END:DAYLIGHT
BEGIN:STANDARD
TZOFFSETFROM:-0400
TZOFFSETTO:-0500
TZNAME:EST
DTSTART:20241103T060000
END:STANDARD
BEGIN:DAYLIGHT
TZOFFSETFROM:-0500
TZOFFSETTO:-0400
TZNAME:EDT
DTSTART:20250309T070000
END:DAYLIGHT
BEGIN:STANDARD
TZOFFSETFROM:-0400
TZOFFSETTO:-0500
TZNAME:EST
DTSTART:20251102T060000
END:STANDARD
BEGIN:DAYLIGHT
TZOFFSETFROM:-0500
TZOFFSETTO:-0400
TZNAME:EDT
DTSTART:20260308T070000
END:DAYLIGHT
BEGIN:STANDARD
TZOFFSETFROM:-0400
TZOFFSETTO:-0500
TZNAME:EST
DTSTART:20261101T060000
END:STANDARD
BEGIN:DAYLIGHT
TZOFFSETFROM:-0500
TZOFFSETTO:-0400
TZNAME:EDT
DTSTART:20270314T070000
END:DAYLIGHT
BEGIN:STANDARD
TZOFFSETFROM:-0400
TZOFFSETTO:-0500
TZNAME:EST
DTSTART:20271107T060000
END:STANDARD
END:VTIMEZONE
BEGIN:VEVENT
DTSTART;TZID=America/Toronto:20260417T130000
DTEND;TZID=America/Toronto:20260417T143000
DTSTAMP:20260422T064724
CREATED:20250409T174000Z
LAST-MODIFIED:20250409T174000Z
UID:10000121-1776430800-1776436200@nthc.ca
SUMMARY:Women's Support Group
DESCRIPTION:Small peer sharing circle supporting women in various stages of life. Including but not limited to\, women struggling in life\, or with stages of change in addiction. A support group for women looking to make a change\, share experiences and supporting one another.
URL:https://nthc.ca/event/womens-support-group/2026-04-17/
LOCATION:Noojmowin Teg Health Centre (Espanola)\, 407 Centre Street\, Espanola\, ontario\, P0P1K0\, Canada
CATEGORIES:Espanola
ORGANIZER;CN="Kathy Martin":MAILTO:kathy.martin@noojmowin-teg.ca
END:VEVENT
BEGIN:VEVENT
DTSTART;TZID=America/Toronto:20260410T130000
DTEND;TZID=America/Toronto:20260410T143000
DTSTAMP:20260422T064724
CREATED:20250409T174000Z
LAST-MODIFIED:20250409T174000Z
UID:10000120-1775826000-1775831400@nthc.ca
SUMMARY:Women's Support Group
DESCRIPTION:Small peer sharing circle supporting women in various stages of life. Including but not limited to\, women struggling in life\, or with stages of change in addiction. A support group for women looking to make a change\, share experiences and supporting one another.
URL:https://nthc.ca/event/womens-support-group/2026-04-10/
LOCATION:Noojmowin Teg Health Centre (Espanola)\, 407 Centre Street\, Espanola\, ontario\, P0P1K0\, Canada
CATEGORIES:Espanola
ORGANIZER;CN="Kathy Martin":MAILTO:kathy.martin@noojmowin-teg.ca
END:VEVENT
BEGIN:VEVENT
DTSTART;TZID=America/Toronto:20260403T130000
DTEND;TZID=America/Toronto:20260403T143000
DTSTAMP:20260422T064724
CREATED:20250409T174000Z
LAST-MODIFIED:20250409T174000Z
UID:10000119-1775221200-1775226600@nthc.ca
SUMMARY:Women's Support Group
DESCRIPTION:Small peer sharing circle supporting women in various stages of life. Including but not limited to\, women struggling in life\, or with stages of change in addiction. A support group for women looking to make a change\, share experiences and supporting one another.
URL:https://nthc.ca/event/womens-support-group/2026-04-03/
LOCATION:Noojmowin Teg Health Centre (Espanola)\, 407 Centre Street\, Espanola\, ontario\, P0P1K0\, Canada
CATEGORIES:Espanola
ORGANIZER;CN="Kathy Martin":MAILTO:kathy.martin@noojmowin-teg.ca
END:VEVENT
BEGIN:VEVENT
DTSTART;TZID=America/Toronto:20260327T130000
DTEND;TZID=America/Toronto:20260327T143000
DTSTAMP:20260422T064724
CREATED:20250409T174000Z
LAST-MODIFIED:20250409T174000Z
UID:10000118-1774616400-1774621800@nthc.ca
SUMMARY:Women's Support Group
DESCRIPTION:Small peer sharing circle supporting women in various stages of life. Including but not limited to\, women struggling in life\, or with stages of change in addiction. A support group for women looking to make a change\, share experiences and supporting one another.
URL:https://nthc.ca/event/womens-support-group/2026-03-27/
LOCATION:Noojmowin Teg Health Centre (Espanola)\, 407 Centre Street\, Espanola\, ontario\, P0P1K0\, Canada
CATEGORIES:Espanola
ORGANIZER;CN="Kathy Martin":MAILTO:kathy.martin@noojmowin-teg.ca
END:VEVENT
BEGIN:VEVENT
DTSTART;TZID=America/Toronto:20260320T130000
DTEND;TZID=America/Toronto:20260320T143000
DTSTAMP:20260422T064724
CREATED:20250409T174000Z
LAST-MODIFIED:20250409T174000Z
UID:10000117-1774011600-1774017000@nthc.ca
SUMMARY:Women's Support Group
DESCRIPTION:Small peer sharing circle supporting women in various stages of life. Including but not limited to\, women struggling in life\, or with stages of change in addiction. A support group for women looking to make a change\, share experiences and supporting one another.
URL:https://nthc.ca/event/womens-support-group/2026-03-20/
LOCATION:Noojmowin Teg Health Centre (Espanola)\, 407 Centre Street\, Espanola\, ontario\, P0P1K0\, Canada
CATEGORIES:Espanola
ORGANIZER;CN="Kathy Martin":MAILTO:kathy.martin@noojmowin-teg.ca
END:VEVENT
BEGIN:VEVENT
DTSTART;TZID=America/Toronto:20260313T130000
DTEND;TZID=America/Toronto:20260313T143000
DTSTAMP:20260422T064724
CREATED:20250409T174000Z
LAST-MODIFIED:20250409T174000Z
UID:10000116-1773406800-1773412200@nthc.ca
SUMMARY:Women's Support Group
DESCRIPTION:Small peer sharing circle supporting women in various stages of life. Including but not limited to\, women struggling in life\, or with stages of change in addiction. A support group for women looking to make a change\, share experiences and supporting one another.
URL:https://nthc.ca/event/womens-support-group/2026-03-13/
LOCATION:Noojmowin Teg Health Centre (Espanola)\, 407 Centre Street\, Espanola\, ontario\, P0P1K0\, Canada
CATEGORIES:Espanola
ORGANIZER;CN="Kathy Martin":MAILTO:kathy.martin@noojmowin-teg.ca
END:VEVENT
BEGIN:VEVENT
DTSTART;TZID=America/Toronto:20260306T130000
DTEND;TZID=America/Toronto:20260306T143000
DTSTAMP:20260422T064724
CREATED:20250409T174000Z
LAST-MODIFIED:20250409T174000Z
UID:10000115-1772802000-1772807400@nthc.ca
SUMMARY:Women's Support Group
DESCRIPTION:Small peer sharing circle supporting women in various stages of life. Including but not limited to\, women struggling in life\, or with stages of change in addiction. A support group for women looking to make a change\, share experiences and supporting one another.
URL:https://nthc.ca/event/womens-support-group/2026-03-06/
LOCATION:Noojmowin Teg Health Centre (Espanola)\, 407 Centre Street\, Espanola\, ontario\, P0P1K0\, Canada
CATEGORIES:Espanola
ORGANIZER;CN="Kathy Martin":MAILTO:kathy.martin@noojmowin-teg.ca
END:VEVENT
BEGIN:VEVENT
DTSTART;TZID=America/Toronto:20260227T130000
DTEND;TZID=America/Toronto:20260227T143000
DTSTAMP:20260422T064724
CREATED:20250409T174000Z
LAST-MODIFIED:20250409T174000Z
UID:10000114-1772197200-1772202600@nthc.ca
SUMMARY:Women's Support Group
DESCRIPTION:Small peer sharing circle supporting women in various stages of life. Including but not limited to\, women struggling in life\, or with stages of change in addiction. A support group for women looking to make a change\, share experiences and supporting one another.
URL:https://nthc.ca/event/womens-support-group/2026-02-27/
LOCATION:Noojmowin Teg Health Centre (Espanola)\, 407 Centre Street\, Espanola\, ontario\, P0P1K0\, Canada
CATEGORIES:Espanola
ORGANIZER;CN="Kathy Martin":MAILTO:kathy.martin@noojmowin-teg.ca
END:VEVENT
BEGIN:VEVENT
DTSTART;TZID=America/Toronto:20260220T130000
DTEND;TZID=America/Toronto:20260220T143000
DTSTAMP:20260422T064724
CREATED:20250409T174000Z
LAST-MODIFIED:20250409T174000Z
UID:10000113-1771592400-1771597800@nthc.ca
SUMMARY:Women's Support Group
DESCRIPTION:Small peer sharing circle supporting women in various stages of life. Including but not limited to\, women struggling in life\, or with stages of change in addiction. A support group for women looking to make a change\, share experiences and supporting one another.
URL:https://nthc.ca/event/womens-support-group/2026-02-20/
LOCATION:Noojmowin Teg Health Centre (Espanola)\, 407 Centre Street\, Espanola\, ontario\, P0P1K0\, Canada
CATEGORIES:Espanola
ORGANIZER;CN="Kathy Martin":MAILTO:kathy.martin@noojmowin-teg.ca
END:VEVENT
BEGIN:VEVENT
DTSTART;TZID=America/Toronto:20260213T130000
DTEND;TZID=America/Toronto:20260213T143000
DTSTAMP:20260422T064724
CREATED:20250409T174000Z
LAST-MODIFIED:20250409T174000Z
UID:10000112-1770987600-1770993000@nthc.ca
SUMMARY:Women's Support Group
DESCRIPTION:Small peer sharing circle supporting women in various stages of life. Including but not limited to\, women struggling in life\, or with stages of change in addiction. A support group for women looking to make a change\, share experiences and supporting one another.
URL:https://nthc.ca/event/womens-support-group/2026-02-13/
LOCATION:Noojmowin Teg Health Centre (Espanola)\, 407 Centre Street\, Espanola\, ontario\, P0P1K0\, Canada
CATEGORIES:Espanola
ORGANIZER;CN="Kathy Martin":MAILTO:kathy.martin@noojmowin-teg.ca
END:VEVENT
BEGIN:VEVENT
DTSTART;TZID=America/Toronto:20260206T130000
DTEND;TZID=America/Toronto:20260206T143000
DTSTAMP:20260422T064724
CREATED:20250409T174000Z
LAST-MODIFIED:20250409T174000Z
UID:10000111-1770382800-1770388200@nthc.ca
SUMMARY:Women's Support Group
DESCRIPTION:Small peer sharing circle supporting women in various stages of life. Including but not limited to\, women struggling in life\, or with stages of change in addiction. A support group for women looking to make a change\, share experiences and supporting one another.
URL:https://nthc.ca/event/womens-support-group/2026-02-06/
LOCATION:Noojmowin Teg Health Centre (Espanola)\, 407 Centre Street\, Espanola\, ontario\, P0P1K0\, Canada
CATEGORIES:Espanola
ORGANIZER;CN="Kathy Martin":MAILTO:kathy.martin@noojmowin-teg.ca
END:VEVENT
BEGIN:VEVENT
DTSTART;TZID=America/Toronto:20260130T130000
DTEND;TZID=America/Toronto:20260130T143000
DTSTAMP:20260422T064724
CREATED:20250409T174000Z
LAST-MODIFIED:20250409T174000Z
UID:10000110-1769778000-1769783400@nthc.ca
SUMMARY:Women's Support Group
DESCRIPTION:Small peer sharing circle supporting women in various stages of life. Including but not limited to\, women struggling in life\, or with stages of change in addiction. A support group for women looking to make a change\, share experiences and supporting one another.
URL:https://nthc.ca/event/womens-support-group/2026-01-30/
LOCATION:Noojmowin Teg Health Centre (Espanola)\, 407 Centre Street\, Espanola\, ontario\, P0P1K0\, Canada
CATEGORIES:Espanola
ORGANIZER;CN="Kathy Martin":MAILTO:kathy.martin@noojmowin-teg.ca
END:VEVENT
BEGIN:VEVENT
DTSTART;TZID=America/Toronto:20260123T130000
DTEND;TZID=America/Toronto:20260123T143000
DTSTAMP:20260422T064724
CREATED:20250409T174000Z
LAST-MODIFIED:20250409T174000Z
UID:10000109-1769173200-1769178600@nthc.ca
SUMMARY:Women's Support Group
DESCRIPTION:Small peer sharing circle supporting women in various stages of life. Including but not limited to\, women struggling in life\, or with stages of change in addiction. A support group for women looking to make a change\, share experiences and supporting one another.
URL:https://nthc.ca/event/womens-support-group/2026-01-23/
LOCATION:Noojmowin Teg Health Centre (Espanola)\, 407 Centre Street\, Espanola\, ontario\, P0P1K0\, Canada
CATEGORIES:Espanola
ORGANIZER;CN="Kathy Martin":MAILTO:kathy.martin@noojmowin-teg.ca
END:VEVENT
BEGIN:VEVENT
DTSTART;TZID=America/Toronto:20260116T130000
DTEND;TZID=America/Toronto:20260116T143000
DTSTAMP:20260422T064724
CREATED:20250409T174000Z
LAST-MODIFIED:20250409T174000Z
UID:10000108-1768568400-1768573800@nthc.ca
SUMMARY:Women's Support Group
DESCRIPTION:Small peer sharing circle supporting women in various stages of life. Including but not limited to\, women struggling in life\, or with stages of change in addiction. A support group for women looking to make a change\, share experiences and supporting one another.
URL:https://nthc.ca/event/womens-support-group/2026-01-16/
LOCATION:Noojmowin Teg Health Centre (Espanola)\, 407 Centre Street\, Espanola\, ontario\, P0P1K0\, Canada
CATEGORIES:Espanola
ORGANIZER;CN="Kathy Martin":MAILTO:kathy.martin@noojmowin-teg.ca
END:VEVENT
BEGIN:VEVENT
DTSTART;TZID=America/Toronto:20260109T130000
DTEND;TZID=America/Toronto:20260109T143000
DTSTAMP:20260422T064724
CREATED:20250409T174000Z
LAST-MODIFIED:20250409T174000Z
UID:10000107-1767963600-1767969000@nthc.ca
SUMMARY:Women's Support Group
DESCRIPTION:Small peer sharing circle supporting women in various stages of life. Including but not limited to\, women struggling in life\, or with stages of change in addiction. A support group for women looking to make a change\, share experiences and supporting one another.
URL:https://nthc.ca/event/womens-support-group/2026-01-09/
LOCATION:Noojmowin Teg Health Centre (Espanola)\, 407 Centre Street\, Espanola\, ontario\, P0P1K0\, Canada
CATEGORIES:Espanola
ORGANIZER;CN="Kathy Martin":MAILTO:kathy.martin@noojmowin-teg.ca
END:VEVENT
BEGIN:VEVENT
DTSTART;TZID=America/Toronto:20260102T130000
DTEND;TZID=America/Toronto:20260102T143000
DTSTAMP:20260422T064724
CREATED:20250409T174000Z
LAST-MODIFIED:20250409T174000Z
UID:10000106-1767358800-1767364200@nthc.ca
SUMMARY:Women's Support Group
DESCRIPTION:Small peer sharing circle supporting women in various stages of life. Including but not limited to\, women struggling in life\, or with stages of change in addiction. A support group for women looking to make a change\, share experiences and supporting one another.
URL:https://nthc.ca/event/womens-support-group/2026-01-02/
LOCATION:Noojmowin Teg Health Centre (Espanola)\, 407 Centre Street\, Espanola\, ontario\, P0P1K0\, Canada
CATEGORIES:Espanola
ORGANIZER;CN="Kathy Martin":MAILTO:kathy.martin@noojmowin-teg.ca
END:VEVENT
BEGIN:VEVENT
DTSTART;TZID=America/Toronto:20251226T130000
DTEND;TZID=America/Toronto:20251226T143000
DTSTAMP:20260422T064724
CREATED:20250409T174000Z
LAST-MODIFIED:20250409T174000Z
UID:10000105-1766754000-1766759400@nthc.ca
SUMMARY:Women's Support Group
DESCRIPTION:Small peer sharing circle supporting women in various stages of life. Including but not limited to\, women struggling in life\, or with stages of change in addiction. A support group for women looking to make a change\, share experiences and supporting one another.
URL:https://nthc.ca/event/womens-support-group/2025-12-26/
LOCATION:Noojmowin Teg Health Centre (Espanola)\, 407 Centre Street\, Espanola\, ontario\, P0P1K0\, Canada
CATEGORIES:Espanola
ORGANIZER;CN="Kathy Martin":MAILTO:kathy.martin@noojmowin-teg.ca
END:VEVENT
BEGIN:VEVENT
DTSTART;TZID=America/Toronto:20251219T130000
DTEND;TZID=America/Toronto:20251219T143000
DTSTAMP:20260422T064724
CREATED:20250409T174000Z
LAST-MODIFIED:20250409T174000Z
UID:10000104-1766149200-1766154600@nthc.ca
SUMMARY:Women's Support Group
DESCRIPTION:Small peer sharing circle supporting women in various stages of life. Including but not limited to\, women struggling in life\, or with stages of change in addiction. A support group for women looking to make a change\, share experiences and supporting one another.
URL:https://nthc.ca/event/womens-support-group/2025-12-19/
LOCATION:Noojmowin Teg Health Centre (Espanola)\, 407 Centre Street\, Espanola\, ontario\, P0P1K0\, Canada
CATEGORIES:Espanola
ORGANIZER;CN="Kathy Martin":MAILTO:kathy.martin@noojmowin-teg.ca
END:VEVENT
BEGIN:VEVENT
DTSTART;TZID=America/Toronto:20251212T130000
DTEND;TZID=America/Toronto:20251212T143000
DTSTAMP:20260422T064724
CREATED:20250409T174000Z
LAST-MODIFIED:20250409T174000Z
UID:10000103-1765544400-1765549800@nthc.ca
SUMMARY:Women's Support Group
DESCRIPTION:Small peer sharing circle supporting women in various stages of life. Including but not limited to\, women struggling in life\, or with stages of change in addiction. A support group for women looking to make a change\, share experiences and supporting one another.
URL:https://nthc.ca/event/womens-support-group/2025-12-12/
LOCATION:Noojmowin Teg Health Centre (Espanola)\, 407 Centre Street\, Espanola\, ontario\, P0P1K0\, Canada
CATEGORIES:Espanola
ORGANIZER;CN="Kathy Martin":MAILTO:kathy.martin@noojmowin-teg.ca
END:VEVENT
BEGIN:VEVENT
DTSTART;TZID=America/Toronto:20251205T130000
DTEND;TZID=America/Toronto:20251205T143000
DTSTAMP:20260422T064724
CREATED:20250409T174000Z
LAST-MODIFIED:20250409T174000Z
UID:10000102-1764939600-1764945000@nthc.ca
SUMMARY:Women's Support Group
DESCRIPTION:Small peer sharing circle supporting women in various stages of life. Including but not limited to\, women struggling in life\, or with stages of change in addiction. A support group for women looking to make a change\, share experiences and supporting one another.
URL:https://nthc.ca/event/womens-support-group/2025-12-05/
LOCATION:Noojmowin Teg Health Centre (Espanola)\, 407 Centre Street\, Espanola\, ontario\, P0P1K0\, Canada
CATEGORIES:Espanola
ORGANIZER;CN="Kathy Martin":MAILTO:kathy.martin@noojmowin-teg.ca
END:VEVENT
BEGIN:VEVENT
DTSTART;TZID=America/Toronto:20251128T130000
DTEND;TZID=America/Toronto:20251128T143000
DTSTAMP:20260422T064724
CREATED:20250409T174000Z
LAST-MODIFIED:20250409T174000Z
UID:10000101-1764334800-1764340200@nthc.ca
SUMMARY:Women's Support Group
DESCRIPTION:Small peer sharing circle supporting women in various stages of life. Including but not limited to\, women struggling in life\, or with stages of change in addiction. A support group for women looking to make a change\, share experiences and supporting one another.
URL:https://nthc.ca/event/womens-support-group/2025-11-28/
LOCATION:Noojmowin Teg Health Centre (Espanola)\, 407 Centre Street\, Espanola\, ontario\, P0P1K0\, Canada
CATEGORIES:Espanola
ORGANIZER;CN="Kathy Martin":MAILTO:kathy.martin@noojmowin-teg.ca
END:VEVENT
BEGIN:VEVENT
DTSTART;TZID=America/Toronto:20251121T130000
DTEND;TZID=America/Toronto:20251121T143000
DTSTAMP:20260422T064724
CREATED:20250409T174000Z
LAST-MODIFIED:20250409T174000Z
UID:10000100-1763730000-1763735400@nthc.ca
SUMMARY:Women's Support Group
DESCRIPTION:Small peer sharing circle supporting women in various stages of life. Including but not limited to\, women struggling in life\, or with stages of change in addiction. A support group for women looking to make a change\, share experiences and supporting one another.
URL:https://nthc.ca/event/womens-support-group/2025-11-21/
LOCATION:Noojmowin Teg Health Centre (Espanola)\, 407 Centre Street\, Espanola\, ontario\, P0P1K0\, Canada
CATEGORIES:Espanola
ORGANIZER;CN="Kathy Martin":MAILTO:kathy.martin@noojmowin-teg.ca
END:VEVENT
BEGIN:VEVENT
DTSTART;TZID=America/Toronto:20251114T130000
DTEND;TZID=America/Toronto:20251114T143000
DTSTAMP:20260422T064724
CREATED:20250409T174000Z
LAST-MODIFIED:20250409T174000Z
UID:10000099-1763125200-1763130600@nthc.ca
SUMMARY:Women's Support Group
DESCRIPTION:Small peer sharing circle supporting women in various stages of life. Including but not limited to\, women struggling in life\, or with stages of change in addiction. A support group for women looking to make a change\, share experiences and supporting one another.
URL:https://nthc.ca/event/womens-support-group/2025-11-14/
LOCATION:Noojmowin Teg Health Centre (Espanola)\, 407 Centre Street\, Espanola\, ontario\, P0P1K0\, Canada
CATEGORIES:Espanola
ORGANIZER;CN="Kathy Martin":MAILTO:kathy.martin@noojmowin-teg.ca
END:VEVENT
BEGIN:VEVENT
DTSTART;TZID=America/Toronto:20251107T130000
DTEND;TZID=America/Toronto:20251107T143000
DTSTAMP:20260422T064724
CREATED:20250409T174000Z
LAST-MODIFIED:20250409T174000Z
UID:10000098-1762520400-1762525800@nthc.ca
SUMMARY:Women's Support Group
DESCRIPTION:Small peer sharing circle supporting women in various stages of life. Including but not limited to\, women struggling in life\, or with stages of change in addiction. A support group for women looking to make a change\, share experiences and supporting one another.
URL:https://nthc.ca/event/womens-support-group/2025-11-07/
LOCATION:Noojmowin Teg Health Centre (Espanola)\, 407 Centre Street\, Espanola\, ontario\, P0P1K0\, Canada
CATEGORIES:Espanola
ORGANIZER;CN="Kathy Martin":MAILTO:kathy.martin@noojmowin-teg.ca
END:VEVENT
BEGIN:VEVENT
DTSTART;TZID=America/Toronto:20251031T130000
DTEND;TZID=America/Toronto:20251031T143000
DTSTAMP:20260422T064724
CREATED:20250409T174000Z
LAST-MODIFIED:20250409T174000Z
UID:10000097-1761915600-1761921000@nthc.ca
SUMMARY:Women's Support Group
DESCRIPTION:Small peer sharing circle supporting women in various stages of life. Including but not limited to\, women struggling in life\, or with stages of change in addiction. A support group for women looking to make a change\, share experiences and supporting one another.
URL:https://nthc.ca/event/womens-support-group/2025-10-31/
LOCATION:Noojmowin Teg Health Centre (Espanola)\, 407 Centre Street\, Espanola\, ontario\, P0P1K0\, Canada
CATEGORIES:Espanola
ORGANIZER;CN="Kathy Martin":MAILTO:kathy.martin@noojmowin-teg.ca
END:VEVENT
BEGIN:VEVENT
DTSTART;TZID=America/Toronto:20251024T130000
DTEND;TZID=America/Toronto:20251024T143000
DTSTAMP:20260422T064724
CREATED:20250409T174000Z
LAST-MODIFIED:20250409T174000Z
UID:10000096-1761310800-1761316200@nthc.ca
SUMMARY:Women's Support Group
DESCRIPTION:Small peer sharing circle supporting women in various stages of life. Including but not limited to\, women struggling in life\, or with stages of change in addiction. A support group for women looking to make a change\, share experiences and supporting one another.
URL:https://nthc.ca/event/womens-support-group/2025-10-24/
LOCATION:Noojmowin Teg Health Centre (Espanola)\, 407 Centre Street\, Espanola\, ontario\, P0P1K0\, Canada
CATEGORIES:Espanola
ORGANIZER;CN="Kathy Martin":MAILTO:kathy.martin@noojmowin-teg.ca
END:VEVENT
BEGIN:VEVENT
DTSTART;TZID=America/Toronto:20251017T130000
DTEND;TZID=America/Toronto:20251017T143000
DTSTAMP:20260422T064724
CREATED:20250409T174000Z
LAST-MODIFIED:20250409T174000Z
UID:10000095-1760706000-1760711400@nthc.ca
SUMMARY:Women's Support Group
DESCRIPTION:Small peer sharing circle supporting women in various stages of life. Including but not limited to\, women struggling in life\, or with stages of change in addiction. A support group for women looking to make a change\, share experiences and supporting one another.
URL:https://nthc.ca/event/womens-support-group/2025-10-17/
LOCATION:Noojmowin Teg Health Centre (Espanola)\, 407 Centre Street\, Espanola\, ontario\, P0P1K0\, Canada
CATEGORIES:Espanola
ORGANIZER;CN="Kathy Martin":MAILTO:kathy.martin@noojmowin-teg.ca
END:VEVENT
BEGIN:VEVENT
DTSTART;TZID=America/Toronto:20251010T130000
DTEND;TZID=America/Toronto:20251010T143000
DTSTAMP:20260422T064724
CREATED:20250409T174000Z
LAST-MODIFIED:20250409T174000Z
UID:10000094-1760101200-1760106600@nthc.ca
SUMMARY:Women's Support Group
DESCRIPTION:Small peer sharing circle supporting women in various stages of life. Including but not limited to\, women struggling in life\, or with stages of change in addiction. A support group for women looking to make a change\, share experiences and supporting one another.
URL:https://nthc.ca/event/womens-support-group/2025-10-10/
LOCATION:Noojmowin Teg Health Centre (Espanola)\, 407 Centre Street\, Espanola\, ontario\, P0P1K0\, Canada
CATEGORIES:Espanola
ORGANIZER;CN="Kathy Martin":MAILTO:kathy.martin@noojmowin-teg.ca
END:VEVENT
BEGIN:VEVENT
DTSTART;TZID=America/Toronto:20251003T130000
DTEND;TZID=America/Toronto:20251003T143000
DTSTAMP:20260422T064724
CREATED:20250409T174000Z
LAST-MODIFIED:20250409T174000Z
UID:10000093-1759496400-1759501800@nthc.ca
SUMMARY:Women's Support Group
DESCRIPTION:Small peer sharing circle supporting women in various stages of life. Including but not limited to\, women struggling in life\, or with stages of change in addiction. A support group for women looking to make a change\, share experiences and supporting one another.
URL:https://nthc.ca/event/womens-support-group/2025-10-03/
LOCATION:Noojmowin Teg Health Centre (Espanola)\, 407 Centre Street\, Espanola\, ontario\, P0P1K0\, Canada
CATEGORIES:Espanola
ORGANIZER;CN="Kathy Martin":MAILTO:kathy.martin@noojmowin-teg.ca
END:VEVENT
BEGIN:VEVENT
DTSTART;TZID=America/Toronto:20250926T130000
DTEND;TZID=America/Toronto:20250926T143000
DTSTAMP:20260422T064724
CREATED:20250409T174000Z
LAST-MODIFIED:20250409T174000Z
UID:10000092-1758891600-1758897000@nthc.ca
SUMMARY:Women's Support Group
DESCRIPTION:Small peer sharing circle supporting women in various stages of life. Including but not limited to\, women struggling in life\, or with stages of change in addiction. A support group for women looking to make a change\, share experiences and supporting one another.
URL:https://nthc.ca/event/womens-support-group/2025-09-26/
LOCATION:Noojmowin Teg Health Centre (Espanola)\, 407 Centre Street\, Espanola\, ontario\, P0P1K0\, Canada
CATEGORIES:Espanola
ORGANIZER;CN="Kathy Martin":MAILTO:kathy.martin@noojmowin-teg.ca
END:VEVENT
END:VCALENDAR