BEGIN:VCALENDAR
VERSION:2.0
PRODID:-//NTHC - ECPv6.15.20//NONSGML v1.0//EN
CALSCALE:GREGORIAN
METHOD:PUBLISH
X-ORIGINAL-URL:https://nthc.ca
X-WR-CALDESC:Events for NTHC
REFRESH-INTERVAL;VALUE=DURATION:PT1H
X-Robots-Tag:noindex
X-PUBLISHED-TTL:PT1H
BEGIN:VTIMEZONE
TZID:America/Toronto
BEGIN:DAYLIGHT
TZOFFSETFROM:-0500
TZOFFSETTO:-0400
TZNAME:EDT
DTSTART:20240310T070000
END:DAYLIGHT
BEGIN:STANDARD
TZOFFSETFROM:-0400
TZOFFSETTO:-0500
TZNAME:EST
DTSTART:20241103T060000
END:STANDARD
BEGIN:DAYLIGHT
TZOFFSETFROM:-0500
TZOFFSETTO:-0400
TZNAME:EDT
DTSTART:20250309T070000
END:DAYLIGHT
BEGIN:STANDARD
TZOFFSETFROM:-0400
TZOFFSETTO:-0500
TZNAME:EST
DTSTART:20251102T060000
END:STANDARD
BEGIN:DAYLIGHT
TZOFFSETFROM:-0500
TZOFFSETTO:-0400
TZNAME:EDT
DTSTART:20260308T070000
END:DAYLIGHT
BEGIN:STANDARD
TZOFFSETFROM:-0400
TZOFFSETTO:-0500
TZNAME:EST
DTSTART:20261101T060000
END:STANDARD
END:VTIMEZONE
BEGIN:VEVENT
DTSTART;TZID=America/Toronto:20250808T130000
DTEND;TZID=America/Toronto:20250808T143000
DTSTAMP:20260422T114658
CREATED:20250409T174000Z
LAST-MODIFIED:20250409T174000Z
UID:10000085-1754658000-1754663400@nthc.ca
SUMMARY:Women's Support Group
DESCRIPTION:Small peer sharing circle supporting women in various stages of life. Including but not limited to\, women struggling in life\, or with stages of change in addiction. A support group for women looking to make a change\, share experiences and supporting one another.
URL:https://nthc.ca/event/womens-support-group/2025-08-08/
LOCATION:Noojmowin Teg Health Centre (Espanola)\, 407 Centre Street\, Espanola\, ontario\, P0P1K0\, Canada
CATEGORIES:Espanola
ORGANIZER;CN="Kathy Martin":MAILTO:kathy.martin@noojmowin-teg.ca
END:VEVENT
BEGIN:VEVENT
DTSTART;TZID=America/Toronto:20250801T130000
DTEND;TZID=America/Toronto:20250801T143000
DTSTAMP:20260422T114658
CREATED:20250409T174000Z
LAST-MODIFIED:20250409T174000Z
UID:10000084-1754053200-1754058600@nthc.ca
SUMMARY:Women's Support Group
DESCRIPTION:Small peer sharing circle supporting women in various stages of life. Including but not limited to\, women struggling in life\, or with stages of change in addiction. A support group for women looking to make a change\, share experiences and supporting one another.
URL:https://nthc.ca/event/womens-support-group/2025-08-01/
LOCATION:Noojmowin Teg Health Centre (Espanola)\, 407 Centre Street\, Espanola\, ontario\, P0P1K0\, Canada
CATEGORIES:Espanola
ORGANIZER;CN="Kathy Martin":MAILTO:kathy.martin@noojmowin-teg.ca
END:VEVENT
BEGIN:VEVENT
DTSTART;TZID=America/Toronto:20250725T130000
DTEND;TZID=America/Toronto:20250725T143000
DTSTAMP:20260422T114658
CREATED:20250409T174000Z
LAST-MODIFIED:20250409T174000Z
UID:10000083-1753448400-1753453800@nthc.ca
SUMMARY:Women's Support Group
DESCRIPTION:Small peer sharing circle supporting women in various stages of life. Including but not limited to\, women struggling in life\, or with stages of change in addiction. A support group for women looking to make a change\, share experiences and supporting one another.
URL:https://nthc.ca/event/womens-support-group/2025-07-25/
LOCATION:Noojmowin Teg Health Centre (Espanola)\, 407 Centre Street\, Espanola\, ontario\, P0P1K0\, Canada
CATEGORIES:Espanola
ORGANIZER;CN="Kathy Martin":MAILTO:kathy.martin@noojmowin-teg.ca
END:VEVENT
BEGIN:VEVENT
DTSTART;TZID=America/Toronto:20250718T130000
DTEND;TZID=America/Toronto:20250718T143000
DTSTAMP:20260422T114658
CREATED:20250409T174000Z
LAST-MODIFIED:20250409T174000Z
UID:10000082-1752843600-1752849000@nthc.ca
SUMMARY:Women's Support Group
DESCRIPTION:Small peer sharing circle supporting women in various stages of life. Including but not limited to\, women struggling in life\, or with stages of change in addiction. A support group for women looking to make a change\, share experiences and supporting one another.
URL:https://nthc.ca/event/womens-support-group/2025-07-18/
LOCATION:Noojmowin Teg Health Centre (Espanola)\, 407 Centre Street\, Espanola\, ontario\, P0P1K0\, Canada
CATEGORIES:Espanola
ORGANIZER;CN="Kathy Martin":MAILTO:kathy.martin@noojmowin-teg.ca
END:VEVENT
BEGIN:VEVENT
DTSTART;TZID=America/Toronto:20250711T130000
DTEND;TZID=America/Toronto:20250711T143000
DTSTAMP:20260422T114658
CREATED:20250409T174000Z
LAST-MODIFIED:20250409T174000Z
UID:10000081-1752238800-1752244200@nthc.ca
SUMMARY:Women's Support Group
DESCRIPTION:Small peer sharing circle supporting women in various stages of life. Including but not limited to\, women struggling in life\, or with stages of change in addiction. A support group for women looking to make a change\, share experiences and supporting one another.
URL:https://nthc.ca/event/womens-support-group/2025-07-11/
LOCATION:Noojmowin Teg Health Centre (Espanola)\, 407 Centre Street\, Espanola\, ontario\, P0P1K0\, Canada
CATEGORIES:Espanola
ORGANIZER;CN="Kathy Martin":MAILTO:kathy.martin@noojmowin-teg.ca
END:VEVENT
BEGIN:VEVENT
DTSTART;TZID=America/Toronto:20250704T130000
DTEND;TZID=America/Toronto:20250704T143000
DTSTAMP:20260422T114658
CREATED:20250409T174000Z
LAST-MODIFIED:20250409T174000Z
UID:10000080-1751634000-1751639400@nthc.ca
SUMMARY:Women's Support Group
DESCRIPTION:Small peer sharing circle supporting women in various stages of life. Including but not limited to\, women struggling in life\, or with stages of change in addiction. A support group for women looking to make a change\, share experiences and supporting one another.
URL:https://nthc.ca/event/womens-support-group/2025-07-04/
LOCATION:Noojmowin Teg Health Centre (Espanola)\, 407 Centre Street\, Espanola\, ontario\, P0P1K0\, Canada
CATEGORIES:Espanola
ORGANIZER;CN="Kathy Martin":MAILTO:kathy.martin@noojmowin-teg.ca
END:VEVENT
BEGIN:VEVENT
DTSTART;TZID=America/Toronto:20250627T130000
DTEND;TZID=America/Toronto:20250627T143000
DTSTAMP:20260422T114658
CREATED:20250409T174000Z
LAST-MODIFIED:20250409T174000Z
UID:10000079-1751029200-1751034600@nthc.ca
SUMMARY:Women's Support Group
DESCRIPTION:Small peer sharing circle supporting women in various stages of life. Including but not limited to\, women struggling in life\, or with stages of change in addiction. A support group for women looking to make a change\, share experiences and supporting one another.
URL:https://nthc.ca/event/womens-support-group/2025-06-27/
LOCATION:Noojmowin Teg Health Centre (Espanola)\, 407 Centre Street\, Espanola\, ontario\, P0P1K0\, Canada
CATEGORIES:Espanola
ORGANIZER;CN="Kathy Martin":MAILTO:kathy.martin@noojmowin-teg.ca
END:VEVENT
BEGIN:VEVENT
DTSTART;TZID=America/Toronto:20250620T130000
DTEND;TZID=America/Toronto:20250620T143000
DTSTAMP:20260422T114658
CREATED:20250409T174000Z
LAST-MODIFIED:20250409T174000Z
UID:10000078-1750424400-1750429800@nthc.ca
SUMMARY:Women's Support Group
DESCRIPTION:Small peer sharing circle supporting women in various stages of life. Including but not limited to\, women struggling in life\, or with stages of change in addiction. A support group for women looking to make a change\, share experiences and supporting one another.
URL:https://nthc.ca/event/womens-support-group/2025-06-20/
LOCATION:Noojmowin Teg Health Centre (Espanola)\, 407 Centre Street\, Espanola\, ontario\, P0P1K0\, Canada
CATEGORIES:Espanola
ORGANIZER;CN="Kathy Martin":MAILTO:kathy.martin@noojmowin-teg.ca
END:VEVENT
BEGIN:VEVENT
DTSTART;TZID=America/Toronto:20250613T130000
DTEND;TZID=America/Toronto:20250613T143000
DTSTAMP:20260422T114658
CREATED:20250409T174000Z
LAST-MODIFIED:20250409T174000Z
UID:10000077-1749819600-1749825000@nthc.ca
SUMMARY:Women's Support Group
DESCRIPTION:Small peer sharing circle supporting women in various stages of life. Including but not limited to\, women struggling in life\, or with stages of change in addiction. A support group for women looking to make a change\, share experiences and supporting one another.
URL:https://nthc.ca/event/womens-support-group/2025-06-13/
LOCATION:Noojmowin Teg Health Centre (Espanola)\, 407 Centre Street\, Espanola\, ontario\, P0P1K0\, Canada
CATEGORIES:Espanola
ORGANIZER;CN="Kathy Martin":MAILTO:kathy.martin@noojmowin-teg.ca
END:VEVENT
BEGIN:VEVENT
DTSTART;TZID=America/Toronto:20250606T130000
DTEND;TZID=America/Toronto:20250606T143000
DTSTAMP:20260422T114658
CREATED:20250409T174000Z
LAST-MODIFIED:20250409T174000Z
UID:10000076-1749214800-1749220200@nthc.ca
SUMMARY:Women's Support Group
DESCRIPTION:Small peer sharing circle supporting women in various stages of life. Including but not limited to\, women struggling in life\, or with stages of change in addiction. A support group for women looking to make a change\, share experiences and supporting one another.
URL:https://nthc.ca/event/womens-support-group/2025-06-06/
LOCATION:Noojmowin Teg Health Centre (Espanola)\, 407 Centre Street\, Espanola\, ontario\, P0P1K0\, Canada
CATEGORIES:Espanola
ORGANIZER;CN="Kathy Martin":MAILTO:kathy.martin@noojmowin-teg.ca
END:VEVENT
BEGIN:VEVENT
DTSTART;TZID=America/Toronto:20250530T130000
DTEND;TZID=America/Toronto:20250530T143000
DTSTAMP:20260422T114658
CREATED:20250409T174000Z
LAST-MODIFIED:20250409T174000Z
UID:10000075-1748610000-1748615400@nthc.ca
SUMMARY:Women's Support Group
DESCRIPTION:Small peer sharing circle supporting women in various stages of life. Including but not limited to\, women struggling in life\, or with stages of change in addiction. A support group for women looking to make a change\, share experiences and supporting one another.
URL:https://nthc.ca/event/womens-support-group/2025-05-30/
LOCATION:Noojmowin Teg Health Centre (Espanola)\, 407 Centre Street\, Espanola\, ontario\, P0P1K0\, Canada
CATEGORIES:Espanola
ORGANIZER;CN="Kathy Martin":MAILTO:kathy.martin@noojmowin-teg.ca
END:VEVENT
BEGIN:VEVENT
DTSTART;TZID=America/Toronto:20250523T130000
DTEND;TZID=America/Toronto:20250523T143000
DTSTAMP:20260422T114658
CREATED:20250409T174000Z
LAST-MODIFIED:20250409T174000Z
UID:10000074-1748005200-1748010600@nthc.ca
SUMMARY:Women's Support Group
DESCRIPTION:Small peer sharing circle supporting women in various stages of life. Including but not limited to\, women struggling in life\, or with stages of change in addiction. A support group for women looking to make a change\, share experiences and supporting one another.
URL:https://nthc.ca/event/womens-support-group/2025-05-23/
LOCATION:Noojmowin Teg Health Centre (Espanola)\, 407 Centre Street\, Espanola\, ontario\, P0P1K0\, Canada
CATEGORIES:Espanola
ORGANIZER;CN="Kathy Martin":MAILTO:kathy.martin@noojmowin-teg.ca
END:VEVENT
BEGIN:VEVENT
DTSTART;TZID=America/Toronto:20250516T130000
DTEND;TZID=America/Toronto:20250516T143000
DTSTAMP:20260422T114658
CREATED:20250409T174000Z
LAST-MODIFIED:20250409T174000Z
UID:10000073-1747400400-1747405800@nthc.ca
SUMMARY:Women's Support Group
DESCRIPTION:Small peer sharing circle supporting women in various stages of life. Including but not limited to\, women struggling in life\, or with stages of change in addiction. A support group for women looking to make a change\, share experiences and supporting one another.
URL:https://nthc.ca/event/womens-support-group/2025-05-16/
LOCATION:Noojmowin Teg Health Centre (Espanola)\, 407 Centre Street\, Espanola\, ontario\, P0P1K0\, Canada
CATEGORIES:Espanola
ORGANIZER;CN="Kathy Martin":MAILTO:kathy.martin@noojmowin-teg.ca
END:VEVENT
BEGIN:VEVENT
DTSTART;TZID=America/Toronto:20250509T130000
DTEND;TZID=America/Toronto:20250509T143000
DTSTAMP:20260422T114658
CREATED:20250409T174000Z
LAST-MODIFIED:20250409T174000Z
UID:10000072-1746795600-1746801000@nthc.ca
SUMMARY:Women's Support Group
DESCRIPTION:Small peer sharing circle supporting women in various stages of life. Including but not limited to\, women struggling in life\, or with stages of change in addiction. A support group for women looking to make a change\, share experiences and supporting one another.
URL:https://nthc.ca/event/womens-support-group/2025-05-09/
LOCATION:Noojmowin Teg Health Centre (Espanola)\, 407 Centre Street\, Espanola\, ontario\, P0P1K0\, Canada
CATEGORIES:Espanola
ORGANIZER;CN="Kathy Martin":MAILTO:kathy.martin@noojmowin-teg.ca
END:VEVENT
BEGIN:VEVENT
DTSTART;TZID=America/Toronto:20250502T130000
DTEND;TZID=America/Toronto:20250502T143000
DTSTAMP:20260422T114658
CREATED:20250409T174000Z
LAST-MODIFIED:20250409T174000Z
UID:10000071-1746190800-1746196200@nthc.ca
SUMMARY:Women's Support Group
DESCRIPTION:Small peer sharing circle supporting women in various stages of life. Including but not limited to\, women struggling in life\, or with stages of change in addiction. A support group for women looking to make a change\, share experiences and supporting one another.
URL:https://nthc.ca/event/womens-support-group/2025-05-02/
LOCATION:Noojmowin Teg Health Centre (Espanola)\, 407 Centre Street\, Espanola\, ontario\, P0P1K0\, Canada
CATEGORIES:Espanola
ORGANIZER;CN="Kathy Martin":MAILTO:kathy.martin@noojmowin-teg.ca
END:VEVENT
BEGIN:VEVENT
DTSTART;TZID=America/Toronto:20250425T130000
DTEND;TZID=America/Toronto:20250425T143000
DTSTAMP:20260422T114658
CREATED:20250409T174000Z
LAST-MODIFIED:20250409T174000Z
UID:10000070-1745586000-1745591400@nthc.ca
SUMMARY:Women's Support Group
DESCRIPTION:Small peer sharing circle supporting women in various stages of life. Including but not limited to\, women struggling in life\, or with stages of change in addiction. A support group for women looking to make a change\, share experiences and supporting one another.
URL:https://nthc.ca/event/womens-support-group/2025-04-25/
LOCATION:Noojmowin Teg Health Centre (Espanola)\, 407 Centre Street\, Espanola\, ontario\, P0P1K0\, Canada
CATEGORIES:Espanola
ORGANIZER;CN="Kathy Martin":MAILTO:kathy.martin@noojmowin-teg.ca
END:VEVENT
BEGIN:VEVENT
DTSTART;TZID=America/Toronto:20250411T130000
DTEND;TZID=America/Toronto:20250411T143000
DTSTAMP:20260422T114658
CREATED:20250409T174000Z
LAST-MODIFIED:20250409T174000Z
UID:10000069-1744376400-1744381800@nthc.ca
SUMMARY:Women's Support Group
DESCRIPTION:Small peer sharing circle supporting women in various stages of life. Including but not limited to\, women struggling in life\, or with stages of change in addiction. A support group for women looking to make a change\, share experiences and supporting one another.
URL:https://nthc.ca/event/womens-support-group/2025-04-11/
LOCATION:Noojmowin Teg Health Centre (Espanola)\, 407 Centre Street\, Espanola\, ontario\, P0P1K0\, Canada
CATEGORIES:Espanola
ORGANIZER;CN="Kathy Martin":MAILTO:kathy.martin@noojmowin-teg.ca
END:VEVENT
END:VCALENDAR